BEGIN:VCALENDAR
VERSION:2.0
PRODID:-//Tukios.com/
BEGIN:VEVENT
UID:d581df08-d9f1-4dec-b888-d6b7d742c60a@www.sampleodonnellfh.com
DTSTAMP:20260425T203727Z
DTSTART:20260429T140000Z
DTEND:20260429T160000Z
SUMMARY:Visitation
DESCRIPTION:
URL:https://www.sampleodonnellfh.com/obituaries/dr-john-stucka-jr
LOCATION:Sample-O'Donnell Funeral Home 555 E. State Street  Sharon PA 
	16146
GEO:41.2334197;-80.4989983
END:VEVENT
END:VCALENDAR