BEGIN:VCALENDAR
VERSION:2.0
PRODID:-//Tukios.com/
BEGIN:VEVENT
UID:d4e793f6-d6f7-41b7-8611-66faa78aed0a@www.sampleodonnellfh.com
DTSTAMP:20260425T203850Z
DTSTART:20260429T160000Z
DTEND:20260429T170000Z
SUMMARY:Funeral Service
DESCRIPTION:
URL:https://www.sampleodonnellfh.com/obituaries/dr-john-stucka-jr
LOCATION: 555 E. State Street  Sharon PA 16146
GEO:41.2334197;-80.4989983
END:VEVENT
END:VCALENDAR