BEGIN:VCALENDAR
VERSION:2.0
PRODID:-//Tukios.com/
BEGIN:VEVENT
UID:87770f6d-3496-471b-90bd-b665e4364634@www.sampleodonnellfh.com
DTSTAMP:20260425T204020Z
DTSTART:20260429
SUMMARY:Burial
DESCRIPTION:
URL:https://www.sampleodonnellfh.com/obituaries/dr-john-stucka-jr
LOCATION: 600 North Oakland Avenue  Sharon PA 16146
GEO:41.2428198;-80.4986909
END:VEVENT
END:VCALENDAR